BEGIN:VCALENDAR
VERSION:2.0
PRODID:-//ENSFR - ECPv6.15.16//NONSGML v1.0//EN
CALSCALE:GREGORIAN
METHOD:PUBLISH
X-WR-CALNAME:ENSFR
X-ORIGINAL-URL:https://ensfr.univ-angers.fr
X-WR-CALDESC:Events for ENSFR
REFRESH-INTERVAL;VALUE=DURATION:PT1H
X-Robots-Tag:noindex
X-PUBLISHED-TTL:PT1H
BEGIN:VTIMEZONE
TZID:Europe/Paris
BEGIN:DAYLIGHT
TZOFFSETFROM:+0100
TZOFFSETTO:+0200
TZNAME:CEST
DTSTART:20250330T010000
END:DAYLIGHT
BEGIN:STANDARD
TZOFFSETFROM:+0200
TZOFFSETTO:+0100
TZNAME:CET
DTSTART:20251026T010000
END:STANDARD
BEGIN:DAYLIGHT
TZOFFSETFROM:+0100
TZOFFSETTO:+0200
TZNAME:CEST
DTSTART:20260329T010000
END:DAYLIGHT
BEGIN:STANDARD
TZOFFSETFROM:+0200
TZOFFSETTO:+0100
TZNAME:CET
DTSTART:20261025T010000
END:STANDARD
BEGIN:DAYLIGHT
TZOFFSETFROM:+0100
TZOFFSETTO:+0200
TZNAME:CEST
DTSTART:20270328T010000
END:DAYLIGHT
BEGIN:STANDARD
TZOFFSETFROM:+0200
TZOFFSETTO:+0100
TZNAME:CET
DTSTART:20271031T010000
END:STANDARD
END:VTIMEZONE
BEGIN:VEVENT
DTSTART;VALUE=DATE:20260425
DTEND;VALUE=DATE:20260426
DTSTAMP:20260423T015119
CREATED:20260325T081934Z
LAST-MODIFIED:20260325T082024Z
UID:3441-1777075200-1777161599@ensfr.univ-angers.fr
SUMMARY:Competition Deadline: Scratch A4 Competition
DESCRIPTION:From the competition website: \n  \nSubmissions are open for Scratch A4 Summer ’26… until midnight\, 25th April!​ \nThe Judges are: \nGurnaik Johal – Winner of the Somerset Maugham Award and shortlisted for the Sunday Times Young Writer of the Year Award. \nEmily Fish – Emily Fish began her publishing career as an Agent’s Assistant at Aitken Alexander Associates. After three years she moved into editorial at Faber\, and now works at Hutchinson Heinemann\, an imprint of Penguin Random House. \nTom Conaghan – Publisher at Scratch Books.​​ \nScratch A4 Summer ’26 will be held in Soho on the evening of Saturday 6th June.​​ \nTo enter our competition to read your story at the Summer ’26 edition of Scratch A4\, complete these two simple steps… \n1) Buy this Contestant Entry ticket. You will receive a Confirmation email. \n2) Forward this Confirmation email – attaching your <1000 word story – to ScratchA4entries@gmail.com  \nPlease take your name off the document itself  \nSubmissions close: Midnight Saturday 25th April \nIf your story is chosen in the shortlist of six\, you will need to be able to get to London that evening – even if you’re not shortlisted\, we really do recommend you come along anyway for a night of wonderment and good cheer. \n  \nEnter here.
URL:https://ensfr.univ-angers.fr/event/competition-deadline-scratch-a4-competition/
CATEGORIES:Competition Deadline
END:VEVENT
BEGIN:VEVENT
DTSTART;VALUE=DATE:20260430
DTEND;VALUE=DATE:20260501
DTSTAMP:20260423T015119
CREATED:20260325T082524Z
LAST-MODIFIED:20260325T082524Z
UID:3445-1777507200-1777593599@ensfr.univ-angers.fr
SUMMARY:Competition Deadline: Ironclad Short Story Competition\, Summer 2026
DESCRIPTION:From the competition website: \n  \nThe Ironclad Creative Short Story Competition is for both published and unpublished writers. \nWe aim to run four short story competitions each year. \nPrize winning and shortlisted writers will be published in our July 2026 anthology. \nWe accept any length of story up to 6k words. \nDon’t use the word FOOTPRINT in the title unless it’s alongside a sub-heading or with other words or phrases. \nYou may use the word in the body of the text\, but you don’t have to. \nWhat we expect is that your work to be inspired by the word in some way. \nAny way. \nA way that might be unexpected…. or entirely expected\, but the story takes us somewhere interesting\, and grips us. \nWe’re looking for writers who have exciting voices and can move us. We believe that can happen in any genre of prose. \nPlease make sure you’ve read the terms and conditions carefully! \n  \nEnter here.
URL:https://ensfr.univ-angers.fr/event/competition-deadline-ironclad-short-story-competition-summer-2026/
CATEGORIES:Competition Deadline
END:VEVENT
END:VCALENDAR