BEGIN:VCALENDAR
VERSION:2.0
PRODID:-//ENSFR - ECPv6.15.16//NONSGML v1.0//EN
CALSCALE:GREGORIAN
METHOD:PUBLISH
X-WR-CALNAME:ENSFR
X-ORIGINAL-URL:https://ensfr.univ-angers.fr
X-WR-CALDESC:Events for ENSFR
REFRESH-INTERVAL;VALUE=DURATION:PT1H
X-Robots-Tag:noindex
X-PUBLISHED-TTL:PT1H
BEGIN:VTIMEZONE
TZID:Europe/Paris
BEGIN:DAYLIGHT
TZOFFSETFROM:+0100
TZOFFSETTO:+0200
TZNAME:CEST
DTSTART:20240331T010000
END:DAYLIGHT
BEGIN:STANDARD
TZOFFSETFROM:+0200
TZOFFSETTO:+0100
TZNAME:CET
DTSTART:20241027T010000
END:STANDARD
BEGIN:DAYLIGHT
TZOFFSETFROM:+0100
TZOFFSETTO:+0200
TZNAME:CEST
DTSTART:20250330T010000
END:DAYLIGHT
BEGIN:STANDARD
TZOFFSETFROM:+0200
TZOFFSETTO:+0100
TZNAME:CET
DTSTART:20251026T010000
END:STANDARD
BEGIN:DAYLIGHT
TZOFFSETFROM:+0100
TZOFFSETTO:+0200
TZNAME:CEST
DTSTART:20260329T010000
END:DAYLIGHT
BEGIN:STANDARD
TZOFFSETFROM:+0200
TZOFFSETTO:+0100
TZNAME:CET
DTSTART:20261025T010000
END:STANDARD
END:VTIMEZONE
BEGIN:VTIMEZONE
TZID:Europe/London
BEGIN:DAYLIGHT
TZOFFSETFROM:+0000
TZOFFSETTO:+0100
TZNAME:BST
DTSTART:20240331T010000
END:DAYLIGHT
BEGIN:STANDARD
TZOFFSETFROM:+0100
TZOFFSETTO:+0000
TZNAME:GMT
DTSTART:20241027T010000
END:STANDARD
BEGIN:DAYLIGHT
TZOFFSETFROM:+0000
TZOFFSETTO:+0100
TZNAME:BST
DTSTART:20250330T010000
END:DAYLIGHT
BEGIN:STANDARD
TZOFFSETFROM:+0100
TZOFFSETTO:+0000
TZNAME:GMT
DTSTART:20251026T010000
END:STANDARD
BEGIN:DAYLIGHT
TZOFFSETFROM:+0000
TZOFFSETTO:+0100
TZNAME:BST
DTSTART:20260329T010000
END:DAYLIGHT
BEGIN:STANDARD
TZOFFSETFROM:+0100
TZOFFSETTO:+0000
TZNAME:GMT
DTSTART:20261025T010000
END:STANDARD
END:VTIMEZONE
BEGIN:VEVENT
DTSTART;VALUE=DATE:20250806
DTEND;VALUE=DATE:20250807
DTSTAMP:20260424T110447
CREATED:20250919T072451Z
LAST-MODIFIED:20250919T072451Z
UID:2656-1754438400-1754524799@ensfr.univ-angers.fr
SUMMARY:Competition Deadline: Aurora Prize for Writing 2025
DESCRIPTION:From the competition’s website: \n  \nSince 2016\, Aurora has provided a platform for writers\, offering a prize that is truly national (and international) with its heart in the East Midlands. \nOur judges have included some of the region’s leading literary lights\, with names such as Joanna Cannon\, Casey Bailey\, Mahsuda Snaith\, Alison Moore\, Jon McGregor\, Malika Booker\, Helen Mort\, Debris Stevenson\, Shreya Sen-Handley and Georgina Wilding. \nWe are thrilled to announce that this year’s judges include T.S. Eliot Prize winner Joelle Taylor\, reading poetry\, and multi-award-winning author Irenosen Okojie\, judging prose. \nAs well as receiving a cash prize\, winners receive feedback on a piece of work of their choice from a matched literary agent or editor. \nWe receive hundreds of entries each year\, with the best 25 in each category making it to a published longlist and the best 10 in each category on published shortlists. \nThe writing competition also offers prizes for second and third places in each category\, plus prizes for the best work from the East Midlands region \nThe winners of the writing competition\, in each category\, will receive a cash prize of £500\, feedback on a piece of work of their choice from a leading literary agent (or Editor as appropriate) and a years free membership to the Society of Authors\, which includes access to advice and resources on all aspects of the business of writing. \nWinners will also receive a session with Society of Authors staff\, including an introduction to how the Society can support them in their careers as professional authors and covering essential advice on copyright\, payment terms and contracts. \nSecond Prize £150 cash. \nThird Prize A ticket to the 2027 Writers’ Conference\, hosted by Writing East Midlands. \nAs a champion of writers from the East Midlands\, we will also offer a regional prize of £100 to the best work in each category from the region. \nIn the weeks leading up to the Aurora Prize Awards Ceremony (details TBC) we will also be publishing a longlist of 25 in each category and a shortlist of 10 in each category on our website. The shortlist of 10 will also receive a 20% discount code for one year’s membership with the Society of Authors. \nThe submission fee is £9 for a first entry and £7 for each additional entry. \nThis is a national writing competition open to everyone. International entries are also welcome. \n  \nTo enter: \nhttps://writingeastmidlands.co.uk/for-writers/aurora-prize-for-writing/
URL:https://ensfr.univ-angers.fr/event/competition-deadline-aurora-prize-for-writing-2025/
END:VEVENT
BEGIN:VEVENT
DTSTART;TZID=Europe/Paris:20250807T190000
DTEND;TZID=Europe/Paris:20250807T203000
DTSTAMP:20260424T110447
CREATED:20250703T125649Z
LAST-MODIFIED:20250703T125649Z
UID:2638-1754593200-1754598600@ensfr.univ-angers.fr
SUMMARY:Event: An Evening with Rose Keating at West Kirby Bookshop
DESCRIPTION:Rose Keating celebrates the publication of her much anticipated debut short story collection\, Oddbody. Rose will be reading from the collection\, before being in conversation with Jordan from the bookshop\, answering questions from the audience and signing copies of Oddbody.
URL:https://ensfr.univ-angers.fr/event/event-an-evening-with-rose-keating-at-west-kirby-bookshop/
END:VEVENT
BEGIN:VEVENT
DTSTART;VALUE=DATE:20250815
DTEND;VALUE=DATE:20250816
DTSTAMP:20260424T110447
CREATED:20250919T072346Z
LAST-MODIFIED:20250919T072346Z
UID:2658-1755216000-1755302399@ensfr.univ-angers.fr
SUMMARY:Competition Deadline: The Bournemouth Writing Prize 2025
DESCRIPTION:From the competition website: \nThe Bournemouth Writing Prize\nCelebrating 10 Years of Outstanding Writing\nSubmissions open April 2025 for the Tenth Anniversary Edition of the Bournemouth Writing Prize. This year\, we’re celebrating a decade of discovering original writing\, and we’d love to read yours. \nSubmit one story\, up to 3\,000 words. \nAll submissions close: 15th of August. \n  \nTo enter: \nSubmit – The Bournemouth Journal
URL:https://ensfr.univ-angers.fr/event/competition-deadline-the-bournemouth-writing-prize-2025/
END:VEVENT
BEGIN:VEVENT
DTSTART;TZID=Europe/London:20250821T190000
DTEND;TZID=Europe/London:20250821T190000
DTSTAMP:20260424T110447
CREATED:20250703T125618Z
LAST-MODIFIED:20250703T125618Z
UID:2625-1755802800-1755802800@ensfr.univ-angers.fr
SUMMARY:Event: Camilla Grudova and Jennifer Hodgson discuss Ágota Kristóf’s I Don’t Care\, at LRB Bookshop
DESCRIPTION:Forced to leave her native Hungary by the 1956 suppression of the Hungarian Uprising\, Ágota Kristóf took up residence in Switzerland and began writing in French. Most famous for her Notebook Trilogy – ‘A book through which I discovered what kind of person I really want to be’ (Slavoj Žižek) – her short stories\, now available for the first time in English as the Penguin Classic volume I Don’t Care (tr. Chris Andrews)\, have been described by Max Porter as ‘pure genius’. \nCanadian writer Camilla Grudova will be discussing Kristóf’s work and place in the late modernist literary firmament with Jennifer Hodgson.
URL:https://ensfr.univ-angers.fr/event/event-camilla-grudova-and-jennifer-hodgson-discuss-agota-kristofs-i-dont-care-at-lrb-bookshop/
END:VEVENT
BEGIN:VEVENT
DTSTART;TZID=Europe/Paris:20250827T190000
DTEND;TZID=Europe/Paris:20250827T203000
DTSTAMP:20260424T110447
CREATED:20250703T125559Z
LAST-MODIFIED:20250703T125559Z
UID:2631-1756321200-1756326600@ensfr.univ-angers.fr
SUMMARY:Event: An Evening with Samanta Schweblin at West Kirby Bookshop
DESCRIPTION:Argentinian author\, Samanta Schweblin\, celebrates the UK publication of her latest short story collection\, Good and Evil and Other Stories (translated by Megan McDowell). \nSamanta will be in conversation about the book\, before answering questions from the audience and signing copies of her books.
URL:https://ensfr.univ-angers.fr/event/event-an-evening-with-samanta-schweblin-at-west-kirby-bookshop/
END:VEVENT
END:VCALENDAR