BEGIN:VCALENDAR
VERSION:2.0
PRODID:-//ENSFR - ECPv6.15.16//NONSGML v1.0//EN
CALSCALE:GREGORIAN
METHOD:PUBLISH
X-WR-CALNAME:ENSFR
X-ORIGINAL-URL:https://ensfr.univ-angers.fr
X-WR-CALDESC:Events for ENSFR
REFRESH-INTERVAL;VALUE=DURATION:PT1H
X-Robots-Tag:noindex
X-PUBLISHED-TTL:PT1H
BEGIN:VTIMEZONE
TZID:Europe/Paris
BEGIN:DAYLIGHT
TZOFFSETFROM:+0100
TZOFFSETTO:+0200
TZNAME:CEST
DTSTART:20240331T010000
END:DAYLIGHT
BEGIN:STANDARD
TZOFFSETFROM:+0200
TZOFFSETTO:+0100
TZNAME:CET
DTSTART:20241027T010000
END:STANDARD
BEGIN:DAYLIGHT
TZOFFSETFROM:+0100
TZOFFSETTO:+0200
TZNAME:CEST
DTSTART:20250330T010000
END:DAYLIGHT
BEGIN:STANDARD
TZOFFSETFROM:+0200
TZOFFSETTO:+0100
TZNAME:CET
DTSTART:20251026T010000
END:STANDARD
BEGIN:DAYLIGHT
TZOFFSETFROM:+0100
TZOFFSETTO:+0200
TZNAME:CEST
DTSTART:20260329T010000
END:DAYLIGHT
BEGIN:STANDARD
TZOFFSETFROM:+0200
TZOFFSETTO:+0100
TZNAME:CET
DTSTART:20261025T010000
END:STANDARD
END:VTIMEZONE
BEGIN:VEVENT
DTSTART;VALUE=DATE:20250725
DTEND;VALUE=DATE:20250726
DTSTAMP:20260424T093453
CREATED:20250703T125537Z
LAST-MODIFIED:20251107T170833Z
UID:2643-1753401600-1753487999@ensfr.univ-angers.fr
SUMMARY:Residency: Muinntireas do Sgrìobhaiche Gàidhlig Òg – Young Gaelic Writer Residency 2025
DESCRIPTION:Tha Pàirc na Camais agus Comhairle nan Leabhraichean toilichte a ràdh gu bheil gairm fhosgailte ann airson tagraidhean Muinntireas do Sgrìobhaiche Gàidhlig Òg! \nIs e muinntireas làn-mhaoinichte do sgrìobhadairean Gàidhlig eadar 18 agus 30 a th’ anns a’ Mhuinntireas do Sgrìobhaiche Gàidhlig Òg\, a thathas a’ tabhann airson an treasamh turas. Bidh am muinntireas dà-sheachdain seo a’ tachairt eadar Diluain 27 Dàmhair agus Diluain 10 Samhain 2025\, agus gheibh an sgrìobhadair air mhuinntireas tuarastal agus cuibhreann siubhail is rannsachaidh. Is e an ceann-latha airson thagraidhean Dihaoine 25 Iuchar ro 5f BST. \nFiosrachadh prògraim is stiùireadh air iarrtasan. \nTha am muinntireas seo air a mhaoineachadh le Comhairle nan Leabhraichean agus air a chruthachadh ann an co-bhann le Pàirc na Camais. \n\nCove Park and The Gaelic Books Council are delighted to announce an open call for applications for the Young Gaelic Writer Residency! \nNow in its third edition\, the Young Gaelic Writer Residency is a fully funded residency for Gaelic writers aged between 18 and 30. This two-week residency will take place from Monday 27 October to Monday 10 November 2025\, and the resident will receive a fee plus travel and research allowance. The deadline for applications is Friday 25 July. \nThis residency is funded by The Gaelic Books Council and developed in collaboration with Cove Park.
URL:https://ensfr.univ-angers.fr/event/residency-application-deadline-muinntireas-do-sgriobhaiche-gaidhlig-og-young-gaelic-writer-residency-2025/
LOCATION:Cove Park
END:VEVENT
BEGIN:VEVENT
DTSTART;TZID=Europe/Paris:20250731T000000
DTEND;TZID=Europe/Paris:20250731T235900
DTSTAMP:20260424T093453
CREATED:20250627T141406Z
LAST-MODIFIED:20250627T141406Z
UID:2615-1753920000-1754006340@ensfr.univ-angers.fr
SUMMARY:Competition Deadline: Leicester Writes Short Story Prize 2025
DESCRIPTION:From the Leicester Writes Short Story Prize website: \n  \nWe’re looking for new and original fiction under 3\,500 words. \nStories can be any length (up to 3\,500 words) style\, or subject. There is no set theme. \n£7 per story. Max three entries per person. \nPRIZES\n1st Prize   – £200 \n2nd Prize – £125 \n3rd Prize – £75 \nA longlist of a maximum of 20 stories will be published in an anthology and all authors receive a complimentary copy. A shortlist and overall winners will be selected by our esteemed judging panel. \nDeadline:  23:59 on 31 July 2025. \n  \nFollow the link to enter: \nLeicester Writes Short Story Prize
URL:https://ensfr.univ-angers.fr/event/competition-deadline-leicester-writes-short-story-prize-2025/
END:VEVENT
BEGIN:VEVENT
DTSTART;TZID=Europe/Paris:20250731T000000
DTEND;TZID=Europe/Paris:20250731T235900
DTSTAMP:20260424T093453
CREATED:20250919T072424Z
LAST-MODIFIED:20250919T072424Z
UID:2653-1753920000-1754006340@ensfr.univ-angers.fr
SUMMARY:Competition Deadline: Sean O Faolain International Short Story Competition
DESCRIPTION:From the competition website: \n  \n\n\nSeán Ó Faoláin International Short Story Competition \nOpen for entries 1 May – 31 July \n\n\nWord limit: 3\,000\nClosing date: 31st July (midnight)\nEntry fee: €19 per story \nThe competition is open to original\, unpublished and unbroadcast short stories in the English language of 3\,000 words or fewer. The story can be on any subject\, in any style\, by a writer of any nationality\, living anywhere in the world. Translated work is not in the scope of this competition. Entrants may submit more than one entry. Once entered\, no alterations can be made to the submission. Simultaneous submissions are accepted but please notify us immediately should your work be accepted elsewhere. \nTo enter: \nSeán Ó Faoláin International Short Story Competition – Munster Literature Centre
URL:https://ensfr.univ-angers.fr/event/competition-deadline-sean-o-faolain-international-short-story-competition/
END:VEVENT
END:VCALENDAR