BEGIN:VCALENDAR
VERSION:2.0
PRODID:-//ENSFR - ECPv6.15.16//NONSGML v1.0//EN
CALSCALE:GREGORIAN
METHOD:PUBLISH
X-WR-CALNAME:ENSFR
X-ORIGINAL-URL:https://ensfr.univ-angers.fr
X-WR-CALDESC:Events for ENSFR
REFRESH-INTERVAL;VALUE=DURATION:PT1H
X-Robots-Tag:noindex
X-PUBLISHED-TTL:PT1H
BEGIN:VTIMEZONE
TZID:Europe/Paris
BEGIN:DAYLIGHT
TZOFFSETFROM:+0100
TZOFFSETTO:+0200
TZNAME:CEST
DTSTART:20250330T010000
END:DAYLIGHT
BEGIN:STANDARD
TZOFFSETFROM:+0200
TZOFFSETTO:+0100
TZNAME:CET
DTSTART:20251026T010000
END:STANDARD
BEGIN:DAYLIGHT
TZOFFSETFROM:+0100
TZOFFSETTO:+0200
TZNAME:CEST
DTSTART:20260329T010000
END:DAYLIGHT
BEGIN:STANDARD
TZOFFSETFROM:+0200
TZOFFSETTO:+0100
TZNAME:CET
DTSTART:20261025T010000
END:STANDARD
BEGIN:DAYLIGHT
TZOFFSETFROM:+0100
TZOFFSETTO:+0200
TZNAME:CEST
DTSTART:20270328T010000
END:DAYLIGHT
BEGIN:STANDARD
TZOFFSETFROM:+0200
TZOFFSETTO:+0100
TZNAME:CET
DTSTART:20271031T010000
END:STANDARD
END:VTIMEZONE
BEGIN:VEVENT
DTSTART;TZID=Europe/Paris:20260531T190000
DTEND;TZID=Europe/Paris:20260531T203000
DTSTAMP:20260425T165323
CREATED:20260413T135718Z
LAST-MODIFIED:20260413T135718Z
UID:3465-1780254000-1780259400@ensfr.univ-angers.fr
SUMMARY:Event: An Evening with Colm Tóibín
DESCRIPTION:To mark the publication of Colm Tóibín’s highly anticipated short story collection The News from Dublin (Picador)\, Writing on the Wall is delighted to reveal that the acclaimed Irish author will appear at WoWFEST26 on Sunday 31 May\, chaired by Professor Frank Shovlin. \nTóibín will discuss The News from Dublin\, a striking and deeply moving sequence of stories that span continents and generations\, from wartime Ireland to Barcelona\, Argentina and beyond. Moving between lives marked by exile\, secrecy and loss\, these luminous narratives explore family ties\, displacement\, and the enduring pull of home and memory. \nBorn in Enniscorthy in 1955\, Tóibín is the author of numerous acclaimed novels and short story collections\, including The Empty Family\, Brooklyn\, The Master\, The Magician and Long Island. A three-time Booker Prize finalist\, he has received the David Cohen Prize for Literature\, served as Laureate for Irish Fiction (2022–2024)\, and was Chancellor of the University of Liverpool until 2017. \nHe will be joined by Frank Shovlin\, Professor of Irish Literature at the University of Liverpool’s Institute of Irish Studies and an acclaimed critic and editor. Shovlin is renowned for his scholarship on James Joyce and John McGahern\, including The Letters of John McGahern (Faber & Faber) and the forthcoming biography John McGahern: A Writing Life.
URL:https://ensfr.univ-angers.fr/event/event-an-evening-with-colm-toibin/
LOCATION:The Black-E\, The Black-E\, 1 Great George Street\, Liverpool\, L1 5EW
CATEGORIES:Event
END:VEVENT
BEGIN:VEVENT
DTSTART;VALUE=DATE:20260610
DTEND;VALUE=DATE:20260611
DTSTAMP:20260425T165323
CREATED:20251030T171547Z
LAST-MODIFIED:20251107T171154Z
UID:3054-1781049600-1781135999@ensfr.univ-angers.fr
SUMMARY:Call for Papers: "American Shorts"
DESCRIPTION:CFP: “American Shorts” University of Lisbon\, Portugal\, October 29-31\, 2026
URL:https://ensfr.univ-angers.fr/event/deadline-cfp-american-shorts/
END:VEVENT
BEGIN:VEVENT
DTSTART;VALUE=DATE:20260610
DTEND;VALUE=DATE:20260613
DTSTAMP:20260425T165323
CREATED:20251020T135239Z
LAST-MODIFIED:20251212T114412Z
UID:2996-1781049600-1781308799@ensfr.univ-angers.fr
SUMMARY:Conference: 8th Annual ENSFR Conference at the University of Artois
DESCRIPTION:  \nWe are excited to announce a Save The Date for the 8th Annual ENSFR Conference. The conference will be held at the University of Artois (Northern France) on the 10-12th of June 2026. The title of the conference is: “In Different Shapes: the short story and its modes of circulation in magazines and newspapers.” \nFollowing the ideas initiated at the Leuven conference in 2017 on the short story\, its contexts and co-texts\, the 2026 ENSFR conference will be devoted to short forms appearing in magazines and newspapers. \nThe conference will consider any story printed in such media but also stories that were solely published in magazines and newspapers (as opposed to stories that were later collected in book form)\, adapted into film or into longer works of fiction (as is often the case with The New Yorker). Panelists may also work on any short form to be found in magazines (commercials\, letters to the editor\, notes…) as well as illustrated stories—the illustrations providing yet another short story from to explore. \nCertain magazines target a specific audience\, and it could be stimulating to reflect upon writers’ ability to please (at least on the surface) literary editors. In the nineteenth century\, stories were often referred to as “articles\,” “tales” or “sketches”—how does this influence our understanding of the text? What are the differences between stories printed in magazines and those printed in newspapers? \nThe conference will give us an opportunity to discuss magazine publication with several authors and see how magazine and newspaper publication has evolved since its earliest forms.
URL:https://ensfr.univ-angers.fr/event/8th-annual-ensfr-conference-at-the-university-of-artois/
LOCATION:University of Artois\, Arras\, France
END:VEVENT
BEGIN:VEVENT
DTSTART;VALUE=DATE:20261030
DTEND;VALUE=DATE:20261031
DTSTAMP:20260425T165323
CREATED:20260116T110010Z
LAST-MODIFIED:20260116T110010Z
UID:3262-1793318400-1793404799@ensfr.univ-angers.fr
SUMMARY:Call for Papers: Special Issue on William Faulkner in Journal of the Short Story in English
DESCRIPTION:JSSE 90 (Spring 2028) \nGuest edited by: \n\nFrançoise Buisson\,Université de Pau et des Pays de l’Adour\nSolveig M. Dunkel\, Université de Lille\nFrédérique Spill\, Université de Picardie Jules Verne\, president of the William Faulkner Society.\n\n\nDeadline for abstract submissions: 30 October 2026 \n\n\nSuggested Proposals\nThe purpose of this special issue of JSSE is thus to examine the challenges faced by Faulkner as a short story writer\, especially—but not exclusively: \n\nthe status of the short story in Faulkner’s work and its reception\neconomic imperatives and consumerism\nexperimentation and short fiction as “a creative writing workshop”\nFaulkner’s play with the traditional forms\, conventions and contents of the genre: narrative technique\, stylistic devices and strategies\, punctuation and typography\nFaulkner’s phenomenological writing\, his writing of sensation\nellipsis and the unspeakable; condensation and proliferation\nFaulkner’s use of different chronotopes and his handling of chronology\nmeta/short fiction and the mise en abyme of short story writing\nthe Southern Gothic\norality\, cock-and-bull stories and tall tales\, short fiction and humor\, Frontier humor\nthe ecopoetic dimension in wilderness short stories\ninitiation in the short story and for the short story teller\nchildhood and children as story-tellers and/or characters\nmargins in the short story: the community and the individual; race and gender relations for example\nqueer Faulkner
URL:https://ensfr.univ-angers.fr/event/call-for-papers-special-issue-on-william-faulkner-in-journal-of-the-short-story-in-english/
CATEGORIES:Call for Papers
END:VEVENT
END:VCALENDAR