BEGIN:VCALENDAR
VERSION:2.0
PRODID:-//ENSFR - ECPv6.15.16//NONSGML v1.0//EN
CALSCALE:GREGORIAN
METHOD:PUBLISH
X-WR-CALNAME:ENSFR
X-ORIGINAL-URL:https://ensfr.univ-angers.fr
X-WR-CALDESC:Events for ENSFR
REFRESH-INTERVAL;VALUE=DURATION:PT1H
X-Robots-Tag:noindex
X-PUBLISHED-TTL:PT1H
BEGIN:VTIMEZONE
TZID:Europe/Paris
BEGIN:DAYLIGHT
TZOFFSETFROM:+0100
TZOFFSETTO:+0200
TZNAME:CEST
DTSTART:20250330T010000
END:DAYLIGHT
BEGIN:STANDARD
TZOFFSETFROM:+0200
TZOFFSETTO:+0100
TZNAME:CET
DTSTART:20251026T010000
END:STANDARD
BEGIN:DAYLIGHT
TZOFFSETFROM:+0100
TZOFFSETTO:+0200
TZNAME:CEST
DTSTART:20260329T010000
END:DAYLIGHT
BEGIN:STANDARD
TZOFFSETFROM:+0200
TZOFFSETTO:+0100
TZNAME:CET
DTSTART:20261025T010000
END:STANDARD
BEGIN:DAYLIGHT
TZOFFSETFROM:+0100
TZOFFSETTO:+0200
TZNAME:CEST
DTSTART:20270328T010000
END:DAYLIGHT
BEGIN:STANDARD
TZOFFSETFROM:+0200
TZOFFSETTO:+0100
TZNAME:CET
DTSTART:20271031T010000
END:STANDARD
END:VTIMEZONE
BEGIN:VEVENT
DTSTART;VALUE=DATE:20260309
DTEND;VALUE=DATE:20260310
DTSTAMP:20260426T014639
CREATED:20260218T121948Z
LAST-MODIFIED:20260218T121948Z
UID:3368-1773014400-1773100799@ensfr.univ-angers.fr
SUMMARY:Competition Deadline: Deepings Literary Festival Short Story Festival 2026
DESCRIPTION:From the competition website: \n  \nTheme – Hidden Treasures\nPlease give your story a title\, which can be different from Hidden Treasures as long as that is clearly the theme. \nSubmissions\nAll entries will be read by members of the DLF committee and the top stories put forward to category judges: \nChildren’s category judge: Barbara Henderson (award-winning author of children’s novels and adult non-fiction; she also works as a drama teacher and visits schools as an author and storyteller). \nAdult’s category judge: Vaseem Khan (author of two award-winning crime series and books in a series featuring Q from the James Bond franchise; he was the Chair of the UK Crime Writers’ Association in 2023–25). \nClosing date\nMonday 9th March 2026. Entries received after this date will not be considered. Please aim to send your entry in as soon as you can rather than wait for the closing date. \nPrizes\nWinners will each receive a £30 book token and the opportunity to have their story published in I’d Rather be in Deeping magazine. \n  \nEnter here.
URL:https://ensfr.univ-angers.fr/event/competition-deadline-deepings-literary-festival-short-story-festival-2026/
CATEGORIES:Competition Deadline
END:VEVENT
END:VCALENDAR