BEGIN:VCALENDAR
VERSION:2.0
PRODID:-//ENSFR - ECPv6.15.16//NONSGML v1.0//EN
CALSCALE:GREGORIAN
METHOD:PUBLISH
X-WR-CALNAME:ENSFR
X-ORIGINAL-URL:https://ensfr.univ-angers.fr
X-WR-CALDESC:Events for ENSFR
REFRESH-INTERVAL;VALUE=DURATION:PT1H
X-Robots-Tag:noindex
X-PUBLISHED-TTL:PT1H
BEGIN:VTIMEZONE
TZID:Europe/Paris
BEGIN:DAYLIGHT
TZOFFSETFROM:+0100
TZOFFSETTO:+0200
TZNAME:CEST
DTSTART:20250330T010000
END:DAYLIGHT
BEGIN:STANDARD
TZOFFSETFROM:+0200
TZOFFSETTO:+0100
TZNAME:CET
DTSTART:20251026T010000
END:STANDARD
BEGIN:DAYLIGHT
TZOFFSETFROM:+0100
TZOFFSETTO:+0200
TZNAME:CEST
DTSTART:20260329T010000
END:DAYLIGHT
BEGIN:STANDARD
TZOFFSETFROM:+0200
TZOFFSETTO:+0100
TZNAME:CET
DTSTART:20261025T010000
END:STANDARD
BEGIN:DAYLIGHT
TZOFFSETFROM:+0100
TZOFFSETTO:+0200
TZNAME:CEST
DTSTART:20270328T010000
END:DAYLIGHT
BEGIN:STANDARD
TZOFFSETFROM:+0200
TZOFFSETTO:+0100
TZNAME:CET
DTSTART:20271031T010000
END:STANDARD
END:VTIMEZONE
BEGIN:VEVENT
DTSTART;TZID=Europe/Paris:20260420T170000
DTEND;TZID=Europe/Paris:20260420T183000
DTSTAMP:20260420T061059
CREATED:20260413T134205Z
LAST-MODIFIED:20260413T134205Z
UID:3456-1776704400-1776709800@ensfr.univ-angers.fr
SUMMARY:Event: Short Fiction Reading Group
DESCRIPTION:The next ENSFR short fiction reading group meeting will take place (via Zoom) on Monday 20th April at 5pm (UK time). Below\, you can find information on how to join the online meeting room. I have attached an iCalendar file that you can add to your calendar. \nDuring the meeting\, we will be discussing my reading suggestion: the short story “The Debutante” by Leonora Carrington. It is a very short story at just 2\,5 pages long. You can access the short story from this link: https://biblioklept.org/2014/01/05/the-debutante-a-short-story-by-leonora-carrington/ \nOur conversation will focus on the following key questions that I have selected: \n\nWhat is the tone of this short story (e.g.\, serious/funny/…)?\nIs there a sentence in this short story that you particularly like or find particularly important? Why?\nDo you as a reader identify with the main character?\n“The Debutante” has a concern for appearance\, for the social significance of acting in particular ways\, culturally approved as “feminine” behaviour. Can you find evidence of this concern in the short story?\nCan you describe the relationship between the pairs “nature and culture” and between “human beings and animals” in this short story?\nWhat do you think of the short story’s ending?\n\nThose who are interested in exploring the work further might want to watch Elizabeth Hobbs’ short\, animated film based on Carrington’s short story (https://vimeo.com/940848616). It is not mandatory to watch the film in preparation for the meeting. \n  \nJoin Zoom Meeting \nhttps://us06web.zoom.us/j/82016619781?pwd=rvpnvMHbD3oAcdooYh7luRWP75pb2T.1 \nMeeting ID: 820 1661 9781 \nPasscode: 013348
URL:https://ensfr.univ-angers.fr/event/event-short-fiction-reading-group/
LOCATION:Zoom
CATEGORIES:Event
END:VEVENT
END:VCALENDAR