BEGIN:VCALENDAR
VERSION:2.0
PRODID:-//ENSFR - ECPv6.15.16//NONSGML v1.0//EN
CALSCALE:GREGORIAN
METHOD:PUBLISH
X-ORIGINAL-URL:https://ensfr.univ-angers.fr
X-WR-CALDESC:Events for ENSFR
REFRESH-INTERVAL;VALUE=DURATION:PT1H
X-Robots-Tag:noindex
X-PUBLISHED-TTL:PT1H
BEGIN:VTIMEZONE
TZID:Europe/Paris
BEGIN:DAYLIGHT
TZOFFSETFROM:+0100
TZOFFSETTO:+0200
TZNAME:CEST
DTSTART:20250330T010000
END:DAYLIGHT
BEGIN:STANDARD
TZOFFSETFROM:+0200
TZOFFSETTO:+0100
TZNAME:CET
DTSTART:20251026T010000
END:STANDARD
BEGIN:DAYLIGHT
TZOFFSETFROM:+0100
TZOFFSETTO:+0200
TZNAME:CEST
DTSTART:20260329T010000
END:DAYLIGHT
BEGIN:STANDARD
TZOFFSETFROM:+0200
TZOFFSETTO:+0100
TZNAME:CET
DTSTART:20261025T010000
END:STANDARD
BEGIN:DAYLIGHT
TZOFFSETFROM:+0100
TZOFFSETTO:+0200
TZNAME:CEST
DTSTART:20270328T010000
END:DAYLIGHT
BEGIN:STANDARD
TZOFFSETFROM:+0200
TZOFFSETTO:+0100
TZNAME:CET
DTSTART:20271031T010000
END:STANDARD
END:VTIMEZONE
BEGIN:VEVENT
DTSTART;TZID=Europe/Paris:20260305T080000
DTEND;TZID=Europe/Paris:20260308T170000
DTSTAMP:20260424T053421
CREATED:20260205T113624Z
LAST-MODIFIED:20260205T113632Z
UID:3323-1772697600-1772989200@ensfr.univ-angers.fr
SUMMARY:Event: Aldeburgh Literary Festival
DESCRIPTION:The Aldeburgh Literary Festival was started in 2002 by John and Mary James of The Aldeburgh Bookshop. It has featured an extraordinary variety of talks\, from the local to the global\, the serious to the hilarious\, the scientific to the philosophical. The Festival is proud to be located in Aldeburgh at the Jubilee Hall and we are delighted that our audience fills the streets of Aldeburgh with visitors and conversation in a winter weekend.
URL:https://ensfr.univ-angers.fr/event/event-aldeburgh-literary-festival/
LOCATION:Jubilee Hall\, Crabbe Street\, Aldeburgh\, Ipswich\, IP15 5BN\, United Kingdom
CATEGORIES:Event
END:VEVENT
END:VCALENDAR