BEGIN:VCALENDAR
VERSION:2.0
PRODID:-//ENSFR - ECPv6.15.16//NONSGML v1.0//EN
CALSCALE:GREGORIAN
METHOD:PUBLISH
X-WR-CALNAME:ENSFR
X-ORIGINAL-URL:https://ensfr.univ-angers.fr
X-WR-CALDESC:Events for ENSFR
REFRESH-INTERVAL;VALUE=DURATION:PT1H
X-Robots-Tag:noindex
X-PUBLISHED-TTL:PT1H
BEGIN:VTIMEZONE
TZID:Europe/Paris
BEGIN:DAYLIGHT
TZOFFSETFROM:+0100
TZOFFSETTO:+0200
TZNAME:CEST
DTSTART:20250330T010000
END:DAYLIGHT
BEGIN:STANDARD
TZOFFSETFROM:+0200
TZOFFSETTO:+0100
TZNAME:CET
DTSTART:20251026T010000
END:STANDARD
BEGIN:DAYLIGHT
TZOFFSETFROM:+0100
TZOFFSETTO:+0200
TZNAME:CEST
DTSTART:20260329T010000
END:DAYLIGHT
BEGIN:STANDARD
TZOFFSETFROM:+0200
TZOFFSETTO:+0100
TZNAME:CET
DTSTART:20261025T010000
END:STANDARD
BEGIN:DAYLIGHT
TZOFFSETFROM:+0100
TZOFFSETTO:+0200
TZNAME:CEST
DTSTART:20270328T010000
END:DAYLIGHT
BEGIN:STANDARD
TZOFFSETFROM:+0200
TZOFFSETTO:+0100
TZNAME:CET
DTSTART:20271031T010000
END:STANDARD
END:VTIMEZONE
BEGIN:VEVENT
DTSTART;TZID=Europe/Paris:20260126T170000
DTEND;TZID=Europe/Paris:20260126T183000
DTSTAMP:20260424T040620
CREATED:20260121T131346Z
LAST-MODIFIED:20260121T131346Z
UID:3305-1769446800-1769452200@ensfr.univ-angers.fr
SUMMARY:Event: ENSFR reading group\, January meeting
DESCRIPTION:This year’s first short fiction reading group meeting will take place (via Zoom) on Monday 26th January at 5pm (UK time). Below\, you can find information on how to join the online meeting room. \nDuring the meeting\, we will be discussing Paul’s reading suggestion: the short story “Butterflies” by Samanta Schweblin. It is a very short story at just a page long. You can access the short story\, as well as a five-minute video of the reading of the story\, from the links below: \nSamanta Schweblin: Butterflies – Bookanista \nReading of Butterflies Video \nOur conversation will focus on the following key questions that Paul has selected: \nQ1) To what extent does the brevity of the story heighten the protagonist’s emotional intensity at the ending? \nQ2) What symbolic role do the butterflies play within the narrative? \nQ3) In what ways does the story construct or critique masculinity? \nQ4) How is parenthood depicted\, and what tensions or expectations surround it in the story? \nQ5) How is Nature represented\, and what thematic significance does it carry? \nQ6) Does the story align more closely with gothic fiction\, ecological writing\, or family drama—or does it deliberately blend multiple genres? What might this hybridity suggest about the expressive power and intensity of the short story form? \nJoin the zoom here: https://us06web.zoom.us/j/86043265746?pwd=900rbjzbcMrfkwKts7nKjf1Bdzljtq.1
URL:https://ensfr.univ-angers.fr/event/event-ensfr-reading-group-january-meeting/
LOCATION:Zoom
CATEGORIES:Event
END:VEVENT
END:VCALENDAR