BEGIN:VCALENDAR
VERSION:2.0
PRODID:-//ENSFR - ECPv6.15.16//NONSGML v1.0//EN
CALSCALE:GREGORIAN
METHOD:PUBLISH
X-ORIGINAL-URL:https://ensfr.univ-angers.fr
X-WR-CALDESC:Events for ENSFR
REFRESH-INTERVAL;VALUE=DURATION:PT1H
X-Robots-Tag:noindex
X-PUBLISHED-TTL:PT1H
BEGIN:VTIMEZONE
TZID:Europe/Paris
BEGIN:DAYLIGHT
TZOFFSETFROM:+0100
TZOFFSETTO:+0200
TZNAME:CEST
DTSTART:20250330T010000
END:DAYLIGHT
BEGIN:STANDARD
TZOFFSETFROM:+0200
TZOFFSETTO:+0100
TZNAME:CET
DTSTART:20251026T010000
END:STANDARD
BEGIN:DAYLIGHT
TZOFFSETFROM:+0100
TZOFFSETTO:+0200
TZNAME:CEST
DTSTART:20260329T010000
END:DAYLIGHT
BEGIN:STANDARD
TZOFFSETFROM:+0200
TZOFFSETTO:+0100
TZNAME:CET
DTSTART:20261025T010000
END:STANDARD
BEGIN:DAYLIGHT
TZOFFSETFROM:+0100
TZOFFSETTO:+0200
TZNAME:CEST
DTSTART:20270328T010000
END:DAYLIGHT
BEGIN:STANDARD
TZOFFSETFROM:+0200
TZOFFSETTO:+0100
TZNAME:CET
DTSTART:20271031T010000
END:STANDARD
END:VTIMEZONE
BEGIN:VEVENT
DTSTART;VALUE=DATE:20260119
DTEND;VALUE=DATE:20260120
DTSTAMP:20260424T054254
CREATED:20260116T115623Z
LAST-MODIFIED:20260116T115623Z
UID:3292-1768780800-1768867199@ensfr.univ-angers.fr
SUMMARY:Residency: Writer in the Park Ljubljana Residency 2026\, Open Call
DESCRIPTION:Ljubljana\, a UNESCO City of Literature since 2015\, offers two one-month residencies for writers at the Švicarija/Swisshouse Creative Centre\, which is part of the International Centre of Graphic Arts.\nEach residency lasts one month per applicant. The residency periods are April 1–30\, 2026\, and November 1–30\, 2026. The dates are non-negotiable\, but a shorter stay is possible if required due to travel arrangements. Extra nights cannot be covered by the organizer\, though organizational assistance can be provided. \nAbout the Residency: \nLjubljana\, the capital of Slovenia\, was named World Book Capital in 2010. After being designated a UNESCO City of Literature in 2015 – the first in the country – it joined a growing global network of cities\, committed to actively promoting literature and reading culture\, while engaging in activities that strengthen collaboration in the fields of writing and publishing. \nLjubljana boasts a vibrant art scene and offers an array of diverse literary events\, ranging from alternative performances to major international festivals. This highly regarded residency\, established in 2018\, provides peace and quiet for uninterrupted writing\, while also offering opportunities to actively participate in the city’s literary life. \nThe deadline for applications is 19 January 2026. For full details about the residency\, including how to apply\, click here.
URL:https://ensfr.univ-angers.fr/event/residency-writer-in-the-park-ljubljana-residency-2026-open-call/
END:VEVENT
END:VCALENDAR