BEGIN:VCALENDAR
VERSION:2.0
PRODID:-//ENSFR - ECPv6.15.16//NONSGML v1.0//EN
CALSCALE:GREGORIAN
METHOD:PUBLISH
X-ORIGINAL-URL:https://ensfr.univ-angers.fr
X-WR-CALDESC:Events for ENSFR
REFRESH-INTERVAL;VALUE=DURATION:PT1H
X-Robots-Tag:noindex
X-PUBLISHED-TTL:PT1H
BEGIN:VTIMEZONE
TZID:Europe/Paris
BEGIN:DAYLIGHT
TZOFFSETFROM:+0100
TZOFFSETTO:+0200
TZNAME:CEST
DTSTART:20240331T010000
END:DAYLIGHT
BEGIN:STANDARD
TZOFFSETFROM:+0200
TZOFFSETTO:+0100
TZNAME:CET
DTSTART:20241027T010000
END:STANDARD
BEGIN:DAYLIGHT
TZOFFSETFROM:+0100
TZOFFSETTO:+0200
TZNAME:CEST
DTSTART:20250330T010000
END:DAYLIGHT
BEGIN:STANDARD
TZOFFSETFROM:+0200
TZOFFSETTO:+0100
TZNAME:CET
DTSTART:20251026T010000
END:STANDARD
BEGIN:DAYLIGHT
TZOFFSETFROM:+0100
TZOFFSETTO:+0200
TZNAME:CEST
DTSTART:20260329T010000
END:DAYLIGHT
BEGIN:STANDARD
TZOFFSETFROM:+0200
TZOFFSETTO:+0100
TZNAME:CET
DTSTART:20261025T010000
END:STANDARD
END:VTIMEZONE
BEGIN:VEVENT
DTSTART;TZID=Europe/Paris:20251215T170000
DTEND;TZID=Europe/Paris:20251215T183000
DTSTAMP:20260424T072306
CREATED:20251204T133903Z
LAST-MODIFIED:20251204T133903Z
UID:3167-1765818000-1765823400@ensfr.univ-angers.fr
SUMMARY:Event: Online Reading Group\, 15th December 2025 at 5PM (UK time)
DESCRIPTION:The last short fiction reading group meeting before Christmas will take place (via Zoom) on Monday 15th December at 5pm (UK time). During the meeting\, we will be discussing Ines’ reading suggestion: the short story “Lost in the Louvre” by Lucia Berlin. You can access it from this link. \nOur conversation will focus on the following key questions that Ines has selected: \n\nIn your opinion\, what is this short story about?\nDue to their restricted length\, short stories often draw on intermedial and intertextual references to maximise their effect. Which authors\, books and artworks are present as an influence in “Lost in the Louvre”?\nWhat is the relationship between imagination and reality in this short story?\nWhat is the role of death in this short story?\nHow is time represented in this short story?\nWhat do we learn about the narrator-protagonist and her relationship to other characters?\n\nJoin Zoom meeting. \n 
URL:https://ensfr.univ-angers.fr/event/event-online-reading-group-15th-december-2025-at-5pm-uk-time/
LOCATION:Zoom
END:VEVENT
END:VCALENDAR