BEGIN:VCALENDAR
VERSION:2.0
PRODID:-//ENSFR - ECPv6.15.16//NONSGML v1.0//EN
CALSCALE:GREGORIAN
METHOD:PUBLISH
X-WR-CALNAME:ENSFR
X-ORIGINAL-URL:https://ensfr.univ-angers.fr
X-WR-CALDESC:Events for ENSFR
REFRESH-INTERVAL;VALUE=DURATION:PT1H
X-Robots-Tag:noindex
X-PUBLISHED-TTL:PT1H
BEGIN:VTIMEZONE
TZID:Europe/Paris
BEGIN:DAYLIGHT
TZOFFSETFROM:+0100
TZOFFSETTO:+0200
TZNAME:CEST
DTSTART:20240331T010000
END:DAYLIGHT
BEGIN:STANDARD
TZOFFSETFROM:+0200
TZOFFSETTO:+0100
TZNAME:CET
DTSTART:20241027T010000
END:STANDARD
BEGIN:DAYLIGHT
TZOFFSETFROM:+0100
TZOFFSETTO:+0200
TZNAME:CEST
DTSTART:20250330T010000
END:DAYLIGHT
BEGIN:STANDARD
TZOFFSETFROM:+0200
TZOFFSETTO:+0100
TZNAME:CET
DTSTART:20251026T010000
END:STANDARD
BEGIN:DAYLIGHT
TZOFFSETFROM:+0100
TZOFFSETTO:+0200
TZNAME:CEST
DTSTART:20260329T010000
END:DAYLIGHT
BEGIN:STANDARD
TZOFFSETFROM:+0200
TZOFFSETTO:+0100
TZNAME:CET
DTSTART:20261025T010000
END:STANDARD
END:VTIMEZONE
BEGIN:VEVENT
DTSTART;VALUE=DATE:20251130
DTEND;VALUE=DATE:20251201
DTSTAMP:20260424T102223
CREATED:20251104T134204Z
LAST-MODIFIED:20251107T092040Z
UID:3068-1764460800-1764547199@ensfr.univ-angers.fr
SUMMARY:Competition Deadline: Inkspot Publishing’s Inaugural Short Story Competition
DESCRIPTION:From the competition website: \nFollowing the sad demise of the Chipping Norton Literary Festival\, Inkspot is picking up the baton and we’re looking forward to receiving entries from writers from far and wide. \n\nDetails\n\n\n\nJudge:  Kate Nash\, Literary Agent\nSponsor:  World Privilege Plus\nEntry fee:  £10 for stories up to 2\,500 words. £15 for stories up to 5\,000 words\nWord Limit:  2\,500 (£10)\, 5\,000 (£15)\nDeadline (Closing Date):  12 Midnight GMT\, Sunday 30th November 2025\nThe shortlist will be announced on Friday 27th March 2026\nWinners will be announced on Friday 10th April 2026.\n\nWriters on low incomes are encouraged to email hello@inkspotpublishing.com and will be able to enter their stories for free. Proof of status may be required. \n\n  \nEnter here.
URL:https://ensfr.univ-angers.fr/event/competition-deadline-inkspot-publishings-inaugural-short-story-competition/
CATEGORIES:Competition Deadline
END:VEVENT
BEGIN:VEVENT
DTSTART;VALUE=DATE:20251130
DTEND;VALUE=DATE:20251201
DTSTAMP:20260424T102223
CREATED:20251104T135547Z
LAST-MODIFIED:20251104T135547Z
UID:3078-1764460800-1764547199@ensfr.univ-angers.fr
SUMMARY:Competition Deadline: Fish Short Story Prize
DESCRIPTION:From the competition website: \n  \nJudge: Sean Lusk – Novelist and short story writer \nWord Limit: 5\,000 \nCloses: 30 Nov ’25 \nResults: 17 March ’26 \nAnthology Published: July ’26 \nEntry Fees: €24 / €16 subsequent entries. (Optional Critique €65) \nPrizes: \nTop ten stories will be published in the FISH ANTHOLOGY 2026.\n1st: €3\,000 plus 5 day Short Story Workshop at the West Cork Literary Festival.\n2nd: €300 + Online Writing Course.\n3rd: €300.\n7 Honourable Mentions €200 each. \n  \nEnter here.
URL:https://ensfr.univ-angers.fr/event/competition-deadline-fish-short-story-prize/
END:VEVENT
END:VCALENDAR