BEGIN:VCALENDAR
VERSION:2.0
PRODID:-//ENSFR - ECPv6.15.16//NONSGML v1.0//EN
CALSCALE:GREGORIAN
METHOD:PUBLISH
X-ORIGINAL-URL:https://ensfr.univ-angers.fr
X-WR-CALDESC:Events for ENSFR
REFRESH-INTERVAL;VALUE=DURATION:PT1H
X-Robots-Tag:noindex
X-PUBLISHED-TTL:PT1H
BEGIN:VTIMEZONE
TZID:Europe/London
BEGIN:DAYLIGHT
TZOFFSETFROM:+0000
TZOFFSETTO:+0100
TZNAME:BST
DTSTART:20240331T010000
END:DAYLIGHT
BEGIN:STANDARD
TZOFFSETFROM:+0100
TZOFFSETTO:+0000
TZNAME:GMT
DTSTART:20241027T010000
END:STANDARD
BEGIN:DAYLIGHT
TZOFFSETFROM:+0000
TZOFFSETTO:+0100
TZNAME:BST
DTSTART:20250330T010000
END:DAYLIGHT
BEGIN:STANDARD
TZOFFSETFROM:+0100
TZOFFSETTO:+0000
TZNAME:GMT
DTSTART:20251026T010000
END:STANDARD
BEGIN:DAYLIGHT
TZOFFSETFROM:+0000
TZOFFSETTO:+0100
TZNAME:BST
DTSTART:20260329T010000
END:DAYLIGHT
BEGIN:STANDARD
TZOFFSETFROM:+0100
TZOFFSETTO:+0000
TZNAME:GMT
DTSTART:20261025T010000
END:STANDARD
END:VTIMEZONE
BEGIN:VEVENT
DTSTART;TZID=Europe/London:20251106T140000
DTEND;TZID=Europe/London:20251106T160000
DTSTAMP:20260424T102220
CREATED:20251030T164557Z
LAST-MODIFIED:20251107T171025Z
UID:3049-1762437600-1762444800@ensfr.univ-angers.fr
SUMMARY:Event: Flash in Translation - online event - November 6th
DESCRIPTION:Come listen to the new flash fiction created by PesText festival members and ENSFR members!
URL:https://ensfr.univ-angers.fr/event/flash-in-translation-online-event-november-6th/
END:VEVENT
END:VCALENDAR