BEGIN:VCALENDAR
VERSION:2.0
PRODID:-//ENSFR - ECPv6.15.16//NONSGML v1.0//EN
CALSCALE:GREGORIAN
METHOD:PUBLISH
X-WR-CALNAME:ENSFR
X-ORIGINAL-URL:https://ensfr.univ-angers.fr
X-WR-CALDESC:Events for ENSFR
REFRESH-INTERVAL;VALUE=DURATION:PT1H
X-Robots-Tag:noindex
X-PUBLISHED-TTL:PT1H
BEGIN:VTIMEZONE
TZID:Europe/Paris
BEGIN:DAYLIGHT
TZOFFSETFROM:+0100
TZOFFSETTO:+0200
TZNAME:CEST
DTSTART:20240331T010000
END:DAYLIGHT
BEGIN:STANDARD
TZOFFSETFROM:+0200
TZOFFSETTO:+0100
TZNAME:CET
DTSTART:20241027T010000
END:STANDARD
BEGIN:DAYLIGHT
TZOFFSETFROM:+0100
TZOFFSETTO:+0200
TZNAME:CEST
DTSTART:20250330T010000
END:DAYLIGHT
BEGIN:STANDARD
TZOFFSETFROM:+0200
TZOFFSETTO:+0100
TZNAME:CET
DTSTART:20251026T010000
END:STANDARD
BEGIN:DAYLIGHT
TZOFFSETFROM:+0100
TZOFFSETTO:+0200
TZNAME:CEST
DTSTART:20260329T010000
END:DAYLIGHT
BEGIN:STANDARD
TZOFFSETFROM:+0200
TZOFFSETTO:+0100
TZNAME:CET
DTSTART:20261025T010000
END:STANDARD
END:VTIMEZONE
BEGIN:VEVENT
DTSTART;TZID=Europe/Paris:20251027T170000
DTEND;TZID=Europe/Paris:20251027T183000
DTSTAMP:20260424T084921
CREATED:20251020T133056Z
LAST-MODIFIED:20251107T171015Z
UID:2989-1761584400-1761589800@ensfr.univ-angers.fr
SUMMARY:Event: Online Reading Group 27 October 2025 at 5pm
DESCRIPTION:The next Reading Group meeting will take place (via Zoom) next week\, on Monday 27th October at 5pm (UK time). During the meeting\, we will be discussing Elena’s reading suggestion: the short story “Theatre 6” by Sarah Hall. The text can be accessed from this link. \nOur conversation will focus on the following key questions that Elena has selected: \n\nWhat genre does “Theatre 6” belong to?\nWhat is the role of the narrator in the story? (in terms of gender\, voice\, position etc)\nWhat is the role of language in the story?\nWhat would you say is the key theme of the story?\nHow do you read the beginning and the ending of the story?\nDo you think short stories can be more political than novels?\n\nTopic: Short Fiction Reading Group – 27 October 2025 \nTime: Oct 27\, 2025 05:00 PM London \nJoin Zoom Meeting \n 
URL:https://ensfr.univ-angers.fr/event/online-reading-group-27-october-2025-at-5pm/
LOCATION:online
END:VEVENT
END:VCALENDAR