BEGIN:VCALENDAR
VERSION:2.0
PRODID:-//ENSFR - ECPv6.15.16//NONSGML v1.0//EN
CALSCALE:GREGORIAN
METHOD:PUBLISH
X-ORIGINAL-URL:https://ensfr.univ-angers.fr
X-WR-CALDESC:Events for ENSFR
REFRESH-INTERVAL;VALUE=DURATION:PT1H
X-Robots-Tag:noindex
X-PUBLISHED-TTL:PT1H
BEGIN:VTIMEZONE
TZID:Europe/Paris
BEGIN:DAYLIGHT
TZOFFSETFROM:+0100
TZOFFSETTO:+0200
TZNAME:CEST
DTSTART:20240331T010000
END:DAYLIGHT
BEGIN:STANDARD
TZOFFSETFROM:+0200
TZOFFSETTO:+0100
TZNAME:CET
DTSTART:20241027T010000
END:STANDARD
BEGIN:DAYLIGHT
TZOFFSETFROM:+0100
TZOFFSETTO:+0200
TZNAME:CEST
DTSTART:20250330T010000
END:DAYLIGHT
BEGIN:STANDARD
TZOFFSETFROM:+0200
TZOFFSETTO:+0100
TZNAME:CET
DTSTART:20251026T010000
END:STANDARD
BEGIN:DAYLIGHT
TZOFFSETFROM:+0100
TZOFFSETTO:+0200
TZNAME:CEST
DTSTART:20260329T010000
END:DAYLIGHT
BEGIN:STANDARD
TZOFFSETFROM:+0200
TZOFFSETTO:+0100
TZNAME:CET
DTSTART:20261025T010000
END:STANDARD
END:VTIMEZONE
BEGIN:VEVENT
DTSTART;VALUE=DATE:20250917
DTEND;VALUE=DATE:20250918
DTSTAMP:20260426T004229
CREATED:20250919T072124Z
LAST-MODIFIED:20251107T170812Z
UID:2685-1758067200-1758153599@ensfr.univ-angers.fr
SUMMARY:Residency: Heidelberg UNESCO City of Literature
DESCRIPTION:Work Grant awarded by the “Kulturstiftung Rhein-Neckar-Kreis e.V.” in cooperation with Heidelberg UNESCO City of Literature for authors from UNESCO Cities of Literature in the “Commandant’s House Dilsberg”\, at Dilsberg Fortress\, in Neckargemünd (approximately 14 km from Heidelberg).\nThe building served as the Commandant’s quarters of the Dilsberg garrison in the 17th century. The former Commandant’s House was acquired 1996 and renovated by the Rhein-Neckar-District. Since then the “Commandant’s House Dilsberg” has been a center for the promotion of art and culture: exhibitions\, chamber music concerts\, open-air concerts\, readings\, symposia and discussion rounds enrich the cultural life of the region. Here\, art\, music\, and literature grant holders find a creative work sphere. \nThe duration of the biennial scholarship is 3 months with residence obligation in the Commandant’s House Dilsberg. \n\n\nCandidates have the possibility to apply as team of two artists (grant holder and co-fellow) as 2 sleeping rooms are available (individual application is necessary).\nThe co-recipient should also have his/her own artistic expertise\, which has not necessarily to be in the literary field (could be translation for instance\, but also such as music\, visual arts\, performing arts\, film\, etc.).\nBoth artistic personalities have to demonstrate an artistic or interdisciplinary cooperation and should be personally well acquainted to each other. While the grant holder has to\, it is not essential that the co-grantee is coming from a UNESCO City of Literature.\nThe co-grantee will be provided with the same financial resources as the grant holder.\nThe artists in residence share a kitchenette and a bathroom in the fully furnished apartment.\nThe apartment is unfortunately not accessible for disabled persons.\n\n\nBenefits\nTotal value max. € 3\,750 per person: \n\n\nSubsistence allowance of € 1\,350 per person (€ 15 per day)\nMonthly allowance/pocket money of € 750 per person\n\n\nAdditional benefits\n\n\nTravel allowance (international flights\, economy class) of up to € 1\,000\nPublic transportation ticket for the Rhine-Neckar public transport network (VRN) limited to the duration of the stay
URL:https://ensfr.univ-angers.fr/event/residency-heidelberg-unesco-city-of-literature/
END:VEVENT
END:VCALENDAR