BEGIN:VCALENDAR
VERSION:2.0
PRODID:-//ENSFR - ECPv6.15.16//NONSGML v1.0//EN
CALSCALE:GREGORIAN
METHOD:PUBLISH
X-WR-CALNAME:ENSFR
X-ORIGINAL-URL:https://ensfr.univ-angers.fr
X-WR-CALDESC:Events for ENSFR
REFRESH-INTERVAL;VALUE=DURATION:PT1H
X-Robots-Tag:noindex
X-PUBLISHED-TTL:PT1H
BEGIN:VTIMEZONE
TZID:America/New_York
BEGIN:DAYLIGHT
TZOFFSETFROM:-0500
TZOFFSETTO:-0400
TZNAME:EDT
DTSTART:20240310T070000
END:DAYLIGHT
BEGIN:STANDARD
TZOFFSETFROM:-0400
TZOFFSETTO:-0500
TZNAME:EST
DTSTART:20241103T060000
END:STANDARD
BEGIN:DAYLIGHT
TZOFFSETFROM:-0500
TZOFFSETTO:-0400
TZNAME:EDT
DTSTART:20250309T070000
END:DAYLIGHT
BEGIN:STANDARD
TZOFFSETFROM:-0400
TZOFFSETTO:-0500
TZNAME:EST
DTSTART:20251102T060000
END:STANDARD
BEGIN:DAYLIGHT
TZOFFSETFROM:-0500
TZOFFSETTO:-0400
TZNAME:EDT
DTSTART:20260308T070000
END:DAYLIGHT
BEGIN:STANDARD
TZOFFSETFROM:-0400
TZOFFSETTO:-0500
TZNAME:EST
DTSTART:20261101T060000
END:STANDARD
END:VTIMEZONE
BEGIN:VEVENT
DTSTART;TZID=America/New_York:20250909T000000
DTEND;TZID=America/New_York:20250909T235900
DTSTAMP:20260425T211905
CREATED:20250703T125454Z
LAST-MODIFIED:20250703T125454Z
UID:2640-1757376000-1757462340@ensfr.univ-angers.fr
SUMMARY:Fellowship Application Deadline: The Hodder Fellowship\, Princeton University
DESCRIPTION:The Hodder Fellowship will be given to artists and writers of exceptional promise to pursue independent projects at Princeton University during the academic year. Potential Hodder Fellows are composers\, choreographers\, performance artists\, visual artists\, writers\, translators\, or other kinds of artists or humanists who have “much more than ordinary intellectual and literary gifts”; they are selected more “for promise than for performance.” Given the strength of the applicant pool\, most successful Fellows have published a first book or have similar achievements in their own fields; the Hodder is designed to provide Fellows with the “studious leisure” to undertake significant new work. \nHodder Fellows spend an academic year with Princeton\, but no formal teaching is involved. A $93\,000 stipend is provided for this 10-month appointment as a Visiting Fellow. Fellowships are not intended to fund work leading to an advanced degree. One need not be a U.S. citizen to apply. Previous recipients of the Princeton Arts Fellowship are not eligible to apply. \nTo apply\, please submit a curriculum vitae\, a 500-word project proposal\, and samples of your work (i.e.\, writing sample\, images of your work\, video links to performances\, etc.). \nInterested applicants may apply for the Hodder Fellowship in each new application cycle.
URL:https://ensfr.univ-angers.fr/event/fellowship-application-deadline-the-hodder-fellowship-princeton-university/
LOCATION:Princeton University
END:VEVENT
END:VCALENDAR